BEGIN:VCALENDAR
VERSION:2.0
PRODID:-//Highly Favored Productions - ECPv6.15.20//NONSGML v1.0//EN
CALSCALE:GREGORIAN
METHOD:PUBLISH
X-WR-CALNAME:Highly Favored Productions
X-ORIGINAL-URL:https://highlyfavoredproductions.com
X-WR-CALDESC:Events for Highly Favored Productions
REFRESH-INTERVAL;VALUE=DURATION:PT1H
X-Robots-Tag:noindex
X-PUBLISHED-TTL:PT1H
BEGIN:VTIMEZONE
TZID:America/Detroit
BEGIN:DAYLIGHT
TZOFFSETFROM:-0500
TZOFFSETTO:-0400
TZNAME:EDT
DTSTART:20250309T070000
END:DAYLIGHT
BEGIN:STANDARD
TZOFFSETFROM:-0400
TZOFFSETTO:-0500
TZNAME:EST
DTSTART:20251102T060000
END:STANDARD
BEGIN:DAYLIGHT
TZOFFSETFROM:-0500
TZOFFSETTO:-0400
TZNAME:EDT
DTSTART:20260308T070000
END:DAYLIGHT
BEGIN:STANDARD
TZOFFSETFROM:-0400
TZOFFSETTO:-0500
TZNAME:EST
DTSTART:20261101T060000
END:STANDARD
BEGIN:DAYLIGHT
TZOFFSETFROM:-0500
TZOFFSETTO:-0400
TZNAME:EDT
DTSTART:20270314T070000
END:DAYLIGHT
BEGIN:STANDARD
TZOFFSETFROM:-0400
TZOFFSETTO:-0500
TZNAME:EST
DTSTART:20271107T060000
END:STANDARD
END:VTIMEZONE
BEGIN:VEVENT
DTSTART;TZID=America/Detroit:20260508T193000
DTEND;TZID=America/Detroit:20260508T223000
DTSTAMP:20260420T064611
CREATED:20260302T015430Z
LAST-MODIFIED:20260303T185822Z
UID:727-1778268600-1778279400@highlyfavoredproductions.com
SUMMARY:Smooth Jazz & Hilarious Laughs\, Pre-Mother's Day Show
DESCRIPTION:Tickets\n\n\n\n\nSmooth Jazz & Hilarious Laughs Pre-Mother’s Day Show\n\n\n\n\n\n$40
URL:https://highlyfavoredproductions.com/event/smooth-jazz-hilarious-laughs-pre-mothers-day-show/
LOCATION:Mercy High School Auditorium\, 29300 W. 11 Mile Rd\, Farmington Hills\, Michigan\, 48336
CATEGORIES:Mother's Day,Smooth Jazz
ATTACH;FMTTYPE=image/jpeg:https://highlyfavoredproductions.com/wp-content/uploads/2026/03/mthers-day.jpg
END:VEVENT
END:VCALENDAR